Workbook

Sheet Read me
A1: Field | B1: Detail
A2: Purpose | B2: Instructor worked Excel solutions
A3: Week | B3: 5
A4: Source | B4: week5-regression-data.xlsx: IncomeSpend; HouseSize
A5: Use | B5: Open in desktop Excel to calculate formula cells. Static reference results are supplied where useful.
A6: Precision | B6: Regression coefficients retain sufficient digits for whole-unit decision rules.

Sheet Models
A1: Model | B1: Intercept | C1: Slope | D1: R_squared | E1: Slope_p | F1: Residual_SE | G1: X_min | H1: X_max
A2: Income to spend | B2: 8254.5752 | C2: 0.295615 | D2: 0.5507687 | E2: 1.109746e-141 | F2: 5594.828 | G2: 15006 | H2: 99960
A3: Age to price | B3: 1088.0343 | C3: -10.88829 | D3: 0.332499 | E3: 0.003974034 | F3: 186.9685 | G3: 2 | H3: 45
A4: Size to price | B4: 399.21722 | C4: 2.061604 | D4: 0.6262186 | E4: 6.90419e-06 | F4: 139.9109 | G4: 155.3 | H4: 476.5

Sheet IncomeSpend
A1: Person ID | B1: Income | C1: Spend | D1: Fitted_spend | E1: Residual
A2: 1034 | B2: 59177 | C2: 33949.74 | D2: =Models!$B$2+Models!$C$2*B2 | E2: =C2-D2
A3: 1923 | B3: 44149 | C3: 26616.59 | D3: =Models!$B$2+Models!$C$2*B3 | E3: =C3-D3
A4: 1769 | B4: 27725 | C4: 17101.78 | D4: =Models!$B$2+Models!$C$2*B4 | E4: =C4-D4
A5: 2044 | B5: 18125 | C5: 8207.65 | D5: =Models!$B$2+Models!$C$2*B5 | E5: =C5-D5
A6: 2626 | B6: 88860 | C6: 37033.28 | D6: =Models!$B$2+Models!$C$2*B6 | E6: =C6-D6
A7: 1026 | B7: 53133 | C7: 27144.68 | D7: =Models!$B$2+Models!$C$2*B7 | E7: =C7-D7
A8: 1236 | B8: 73307 | C8: 26218.6 | D8: =Models!$B$2+Models!$C$2*B8 | E8: =C8-D8
A9: 1410 | B9: 27649 | C9: 25158.36 | D9: =Models!$B$2+Models!$C$2*B9 | E9: =C9-D9
A10: 2945 | B10: 57716 | C10: 18965.23 | D10: =Models!$B$2+Models!$C$2*B10 | E10: =C10-D10
A11: 1799 | B11: 22752 | C11: 16251.7 | D11: =Models!$B$2+Models!$C$2*B11 | E11: =C11-D11
A12: 2505 | B12: 45130 | C12: 15948 | D12: =Models!$B$2+Models!$C$2*B12 | E12: =C12-D12
A13: 1656 | B13: 18634 | C13: 22920.92 | D13: =Models!$B$2+Models!$C$2*B13 | E13: =C13-D13
... A806: 2039 | B806: 45712 | C806: 22596.33 | D806: =Models!$B$2+Models!$C$2*B806 | E806: =C806-D806

Sheet HouseSize
A1: Market price ($'000) | B1: House size (m2) | C1: Age of house (years) | D1: Fitted_age | E1: Residual_age | F1: Fitted_size | G1: Residual_size
A2: 630 | B2: 160.5 | C2: 35 | D2: =Models!$B$3+Models!$C$3*C2 | E2: =A2-D2 | F2: =Models!$B$4+Models!$C$4*B2 | G2: =A2-F2
A3: 651 | B3: 248.9 | C3: 45 | D3: =Models!$B$3+Models!$C$3*C3 | E3: =A3-D3 | F3: =Models!$B$4+Models!$C$4*B3 | G3: =A3-F3
A4: 699 | B4: 155.3 | C4: 20 | D4: =Models!$B$3+Models!$C$3*C4 | E4: =A4-D4 | F4: =Models!$B$4+Models!$C$4*B4 | G4: =A4-F4
A5: 768 | B5: 240.4 | C5: 32 | D5: =Models!$B$3+Models!$C$3*C5 | E5: =A5-D5 | F5: =Models!$B$4+Models!$C$4*B5 | G5: =A5-F5
A6: 739 | B6: 188.4 | C6: 25 | D6: =Models!$B$3+Models!$C$3*C6 | E6: =A6-D6 | F6: =Models!$B$4+Models!$C$4*B6 | G6: =A6-F6
A7: 799 | B7: 155.8 | C7: 14 | D7: =Models!$B$3+Models!$C$3*C7 | E7: =A7-D7 | F7: =Models!$B$4+Models!$C$4*B7 | G7: =A7-F7
A8: 749 | B8: 174.8 | C8: 8 | D8: =Models!$B$3+Models!$C$3*C8 | E8: =A8-D8 | F8: =Models!$B$4+Models!$C$4*B8 | G8: =A8-F8
A9: 780 | B9: 310.5 | C9: 10 | D9: =Models!$B$3+Models!$C$3*C9 | E9: =A9-D9 | F9: =Models!$B$4+Models!$C$4*B9 | G9: =A9-F9
A10: 790 | B10: 168.2 | C10: 28 | D10: =Models!$B$3+Models!$C$3*C10 | E10: =A10-D10 | F10: =Models!$B$4+Models!$C$4*B10 | G10: =A10-F10
A11: 834 | B11: 247 | C11: 30 | D11: =Models!$B$3+Models!$C$3*C11 | E11: =A11-D11 | F11: =Models!$B$4+Models!$C$4*B11 | G11: =A11-F11
A12: 795 | B12: 182 | C12: 2 | D12: =Models!$B$3+Models!$C$3*C12 | E12: =A12-D12 | F12: =Models!$B$4+Models!$C$4*B12 | G12: =A12-F12
A13: 839 | B13: 214.3 | C13: 6 | D13: =Models!$B$3+Models!$C$3*C13 | E13: =A13-D13 | F13: =Models!$B$4+Models!$C$4*B13 | G13: =A13-F13
... A24: 1400 | B24: 454 | C24: 8 | D24: =Models!$B$3+Models!$C$3*C24 | E24: =A24-D24 | F24: =Models!$B$4+Models!$C$4*B24 | G24: =A24-F24

Sheet Checks
A1: Item | B1: Expected
A2: Income-spend correlation | B2: 0.7421379
A3: Age-price correlation | B3: -0.57662726
A4: Size-price correlation | B4: 0.79133975
A5: First house age-model fit ($000s) | B5: 706.9442
A6: First house age-model residual ($000s) | B6: -76.9442
