Workbook

Sheet Read me
A1: Field | B1: Detail
A2: Purpose | B2: Instructor worked Excel solutions
A3: Week | B3: 6
A4: Source | B4: week6-realestate-data.xlsx; week6-underwriting-data.xlsx
A5: Use | B5: Open in desktop Excel to calculate formula cells. Static reference results are supplied where useful.
A6: Precision | B6: Regression coefficients retain sufficient digits for whole-unit decision rules.

Sheet RE models
A1: Term | B1: Full | C1: Reduced_no_Cars | D1: Full_p
A2: Intercept | B2: 86.841347 | C2: 94.29534 | D2: 0.162244
A3: Beds | B3: 47.426192 | C3: 51.36299 | D3: 0.038863
A4: Baths | B4: 216.53315 | C4: 217.75969 | D4: 1e-20
A5: Cars | B5: 14.544475 | C5: 0 | D5: 0.523506
A6: Area | B6: 0.831267 | C6: 0.83593 | D6: 1e-20

Sheet RE fit
A1: Model | B1: Adjusted_R2 | C1: Residual_SE_000 | D1: Significance_F
A2: Full | B2: 0.5993576 | C2: 265.1623 | D2: 6.004582e-64
A3: Reduced no Cars | B3: 0.6000876 | C3: 264.9207 | D3: 5.260391e-65

Sheet RealEstate
A1: Price | B1: Beds | C1: Baths | D1: Cars | E1: Area | F1: SchoolZone | G1: Auction | H1: New | I1: Subdivided | J1: Fitted_full | K1: Residual_full | L1: Fitted_reduced | M1: Residual_reduced
A2: 1100 | B2: 3 | C2: 2 | D2: 2 | E2: 331 | F2: Yes | G2: Yes | H2: No | I2: Yes | J2: ='RE models'!$B$2+'RE models'!$B$3*B2+'RE models'!$B$4*C2+'RE models'!$B$5*D2+'RE models'!$B$6*E2 | K2: =A2-J2 | L2: ='RE models'!$C$2+'RE models'!$C$3*B2+'RE models'!$C$4*C2+'RE models'!$C$6*E2 | M2: =A2-L2
A3: 1239 | B3: 3 | C3: 1 | D3: 1 | E3: 723 | F3: Yes | G3: Yes | H3: No | I3: No | J3: ='RE models'!$B$2+'RE models'!$B$3*B3+'RE models'!$B$4*C3+'RE models'!$B$5*D3+'RE models'!$B$6*E3 | K3: =A3-J3 | L3: ='RE models'!$C$2+'RE models'!$C$3*B3+'RE models'!$C$4*C3+'RE models'!$C$6*E3 | M3: =A3-L3
A4: 1095 | B4: 4 | C4: 2 | D4: 1 | E4: 567 | F4: Yes | G4: Yes | H4: Yes | I4: No | J4: ='RE models'!$B$2+'RE models'!$B$3*B4+'RE models'!$B$4*C4+'RE models'!$B$5*D4+'RE models'!$B$6*E4 | K4: =A4-J4 | L4: ='RE models'!$C$2+'RE models'!$C$3*B4+'RE models'!$C$4*C4+'RE models'!$C$6*E4 | M4: =A4-L4
A5: 890 | B5: 3 | C5: 1 | D5: 2 | E5: 659 | F5: No | G5: No | H5: No | I5: No | J5: ='RE models'!$B$2+'RE models'!$B$3*B5+'RE models'!$B$4*C5+'RE models'!$B$5*D5+'RE models'!$B$6*E5 | K5: =A5-J5 | L5: ='RE models'!$C$2+'RE models'!$C$3*B5+'RE models'!$C$4*C5+'RE models'!$C$6*E5 | M5: =A5-L5
A6: 1155 | B6: 4 | C6: 2 | D6: 2 | E6: 785 | F6: Yes | G6: No | H6: No | I6: No | J6: ='RE models'!$B$2+'RE models'!$B$3*B6+'RE models'!$B$4*C6+'RE models'!$B$5*D6+'RE models'!$B$6*E6 | K6: =A6-J6 | L6: ='RE models'!$C$2+'RE models'!$C$3*B6+'RE models'!$C$4*C6+'RE models'!$C$6*E6 | M6: =A6-L6
A7: 721 | B7: 3 | C7: 1 | D7: 1 | E7: 227 | F7: Yes | G7: Yes | H7: No | I7: Yes | J7: ='RE models'!$B$2+'RE models'!$B$3*B7+'RE models'!$B$4*C7+'RE models'!$B$5*D7+'RE models'!$B$6*E7 | K7: =A7-J7 | L7: ='RE models'!$C$2+'RE models'!$C$3*B7+'RE models'!$C$4*C7+'RE models'!$C$6*E7 | M7: =A7-L7
A8: 1150 | B8: 3 | C8: 1 | D8: 2 | E8: 838 | F8: Yes | G8: Yes | H8: No | I8: No | J8: ='RE models'!$B$2+'RE models'!$B$3*B8+'RE models'!$B$4*C8+'RE models'!$B$5*D8+'RE models'!$B$6*E8 | K8: =A8-J8 | L8: ='RE models'!$C$2+'RE models'!$C$3*B8+'RE models'!$C$4*C8+'RE models'!$C$6*E8 | M8: =A8-L8
A9: 1087 | B9: 3 | C9: 2 | D9: 2 | E9: 289 | F9: Yes | G9: No | H9: Yes | I9: Yes | J9: ='RE models'!$B$2+'RE models'!$B$3*B9+'RE models'!$B$4*C9+'RE models'!$B$5*D9+'RE models'!$B$6*E9 | K9: =A9-J9 | L9: ='RE models'!$C$2+'RE models'!$C$3*B9+'RE models'!$C$4*C9+'RE models'!$C$6*E9 | M9: =A9-L9
A10: 870 | B10: 3 | C10: 2 | D10: 2 | E10: 235 | F10: Yes | G10: Yes | H10: Yes | I10: Yes | J10: ='RE models'!$B$2+'RE models'!$B$3*B10+'RE models'!$B$4*C10+'RE models'!$B$5*D10+'RE models'!$B$6*E10 | K10: =A10-J10 | L10: ='RE models'!$C$2+'RE models'!$C$3*B10+'RE models'!$C$4*C10+'RE models'!$C$6*E10 | M10: =A10-L10
A11: 1200 | B11: 3 | C11: 2 | D11: 2 | E11: 830 | F11: Yes | G11: No | H11: No | I11: No | J11: ='RE models'!$B$2+'RE models'!$B$3*B11+'RE models'!$B$4*C11+'RE models'!$B$5*D11+'RE models'!$B$6*E11 | K11: =A11-J11 | L11: ='RE models'!$C$2+'RE models'!$C$3*B11+'RE models'!$C$4*C11+'RE models'!$C$6*E11 | M11: =A11-L11
A12: 1490 | B12: 4 | C12: 2 | D12: 3 | E12: 766 | F12: Yes | G12: No | H12: No | I12: No | J12: ='RE models'!$B$2+'RE models'!$B$3*B12+'RE models'!$B$4*C12+'RE models'!$B$5*D12+'RE models'!$B$6*E12 | K12: =A12-J12 | L12: ='RE models'!$C$2+'RE models'!$C$3*B12+'RE models'!$C$4*C12+'RE models'!$C$6*E12 | M12: =A12-L12
A13: 865 | B13: 2 | C13: 1 | D13: 2 | E13: 406 | F13: No | G13: No | H13: No | I13: Yes | J13: ='RE models'!$B$2+'RE models'!$B$3*B13+'RE models'!$B$4*C13+'RE models'!$B$5*D13+'RE models'!$B$6*E13 | K13: =A13-J13 | L13: ='RE models'!$C$2+'RE models'!$C$3*B13+'RE models'!$C$4*C13+'RE models'!$C$6*E13 | M13: =A13-L13
... A330: 730 | B330: 3 | C330: 1 | D330: 1 | E330: 350 | F330: Yes | G330: Yes | H330: No | I330: Yes | J330: ='RE models'!$B$2+'RE models'!$B$3*B330+'RE models'!$B$4*C330+'RE models'!$B$5*D330+'RE models'!$B$6*E330 | K330: =A330-J330 | L330: ='RE models'!$C$2+'RE models'!$C$3*B330+'RE models'!$C$4*C330+'RE models'!$C$6*E330 | M330: =A330-L330

Sheet UW model
A1: Term | B1: Estimate | C1: P_value
A2: Intercept | B2: -63.981281 | C2: 0.000769
A3: Proficiency | B3: 1.125782 | C3: 1e-06
A4: DClassroom | B4: -22.288672 | C4: 2.2e-05
A5: DOnline | B5: 8.088047 | C5: 0.071861

Sheet UW fit
A1: Adjusted_R2 | B1: Significance_F | C1: Residual_SE
A2: 0.7609719 | B2: 7.529362e-09 | C2: 9.634874

Sheet Underwriting
A1: End-of-Training | B1: Proficiency | C1: Method | D1: DClassroom | E1: DOnline | F1: Fitted_score | G1: Residual
A2: 14 | B2: 94 | C2: classroom | D2: =IF(C2="classroom",1,0) | E2: =IF(C2="online",1,0) | F2: ='UW model'!$B$2+'UW model'!$B$3*B2+'UW model'!$B$4*D2+'UW model'!$B$5*E2 | G2: =A2-F2
A3: 19 | B3: 96 | C3: classroom | D3: =IF(C3="classroom",1,0) | E3: =IF(C3="online",1,0) | F3: ='UW model'!$B$2+'UW model'!$B$3*B3+'UW model'!$B$4*D3+'UW model'!$B$5*E3 | G3: =A3-F3
A4: 17 | B4: 98 | C4: classroom | D4: =IF(C4="classroom",1,0) | E4: =IF(C4="online",1,0) | F4: ='UW model'!$B$2+'UW model'!$B$3*B4+'UW model'!$B$4*D4+'UW model'!$B$5*E4 | G4: =A4-F4
A5: 38 | B5: 100 | C5: classroom | D5: =IF(C5="classroom",1,0) | E5: =IF(C5="online",1,0) | F5: ='UW model'!$B$2+'UW model'!$B$3*B5+'UW model'!$B$4*D5+'UW model'!$B$5*E5 | G5: =A5-F5
A6: 40 | B6: 102 | C6: classroom | D6: =IF(C6="classroom",1,0) | E6: =IF(C6="online",1,0) | F6: ='UW model'!$B$2+'UW model'!$B$3*B6+'UW model'!$B$4*D6+'UW model'!$B$5*E6 | G6: =A6-F6
A7: 26 | B7: 105 | C7: classroom | D7: =IF(C7="classroom",1,0) | E7: =IF(C7="online",1,0) | F7: ='UW model'!$B$2+'UW model'!$B$3*B7+'UW model'!$B$4*D7+'UW model'!$B$5*E7 | G7: =A7-F7
A8: 41 | B8: 109 | C8: classroom | D8: =IF(C8="classroom",1,0) | E8: =IF(C8="online",1,0) | F8: ='UW model'!$B$2+'UW model'!$B$3*B8+'UW model'!$B$4*D8+'UW model'!$B$5*E8 | G8: =A8-F8
A9: 28 | B9: 110 | C9: classroom | D9: =IF(C9="classroom",1,0) | E9: =IF(C9="online",1,0) | F9: ='UW model'!$B$2+'UW model'!$B$3*B9+'UW model'!$B$4*D9+'UW model'!$B$5*E9 | G9: =A9-F9
A10: 36 | B10: 111 | C10: classroom | D10: =IF(C10="classroom",1,0) | E10: =IF(C10="online",1,0) | F10: ='UW model'!$B$2+'UW model'!$B$3*B10+'UW model'!$B$4*D10+'UW model'!$B$5*E10 | G10: =A10-F10
A11: 66 | B11: 130 | C11: classroom | D11: =IF(C11="classroom",1,0) | E11: =IF(C11="online",1,0) | F11: ='UW model'!$B$2+'UW model'!$B$3*B11+'UW model'!$B$4*D11+'UW model'!$B$5*E11 | G11: =A11-F11
A12: 38 | B12: 80 | C12: online | D12: =IF(C12="classroom",1,0) | E12: =IF(C12="online",1,0) | F12: ='UW model'!$B$2+'UW model'!$B$3*B12+'UW model'!$B$4*D12+'UW model'!$B$5*E12 | G12: =A12-F12
A13: 34 | B13: 84 | C13: online | D13: =IF(C13="classroom",1,0) | E13: =IF(C13="online",1,0) | F13: ='UW model'!$B$2+'UW model'!$B$3*B13+'UW model'!$B$4*D13+'UW model'!$B$5*E13 | G13: =A13-F13
... A31: 81 | B31: 118 | C31: courseware app | D31: =IF(C31="classroom",1,0) | E31: =IF(C31="online",1,0) | F31: ='UW model'!$B$2+'UW model'!$B$3*B31+'UW model'!$B$4*D31+'UW model'!$B$5*E31 | G31: =A31-F31

Sheet Predictions at 100
A1: Method | B1: Proficiency | C1: DClassroom | D1: DOnline | E1: Expected_score
A2: courseware app | B2: 100 | C2: 0 | D2: 0 | E2: 48.59687
A3: classroom | B3: 100 | C3: 1 | D3: 0 | E3: 26.3082
A4: online | B4: 100 | C4: 0 | D4: 1 | E4: 56.68492
